BEGIN:VCALENDAR
VERSION:2.0
PRODID:-//West Coast PCI - ECPv6.15.15//NONSGML v1.0//EN
CALSCALE:GREGORIAN
METHOD:PUBLISH
X-WR-CALNAME:West Coast PCI
X-ORIGINAL-URL:https://westcoastpci.ca
X-WR-CALDESC:Events for West Coast PCI
REFRESH-INTERVAL;VALUE=DURATION:PT1H
X-Robots-Tag:noindex
X-PUBLISHED-TTL:PT1H
BEGIN:VTIMEZONE
TZID:UTC
BEGIN:STANDARD
TZOFFSETFROM:+0000
TZOFFSETTO:+0000
TZNAME:UTC
DTSTART:20240101T000000
END:STANDARD
END:VTIMEZONE
BEGIN:VEVENT
DTSTART;VALUE=DATE:20250701
DTEND;VALUE=DATE:20250702
DTSTAMP:20260422T162323
CREATED:20241210T174857Z
LAST-MODIFIED:20241210T174857Z
UID:202-1751328000-1751414399@westcoastpci.ca
SUMMARY:Canada Day
DESCRIPTION:
URL:https://westcoastpci.ca/schedule/canada-day/
CATEGORIES:Stat Holiday
END:VEVENT
END:VCALENDAR